BEGIN:VCALENDAR
VERSION:2.0
PRODID:-//Vaidik World - ECPv6.9.0//NONSGML v1.0//EN
CALSCALE:GREGORIAN
METHOD:PUBLISH
X-WR-CALNAME:Vaidik World
X-ORIGINAL-URL:https://vaidikworld.in
X-WR-CALDESC:Events for Vaidik World
REFRESH-INTERVAL;VALUE=DURATION:PT1H
X-Robots-Tag:noindex
X-PUBLISHED-TTL:PT1H
BEGIN:VTIMEZONE
TZID:UTC
BEGIN:STANDARD
TZOFFSETFROM:+0000
TZOFFSETTO:+0000
TZNAME:UTC
DTSTART:20250101T000000
END:STANDARD
END:VTIMEZONE
BEGIN:VEVENT
DTSTART;TZID=UTC:20250126T100000
DTEND;TZID=UTC:20250127T163000
DTSTAMP:20260419T204740
CREATED:20200428T135723Z
LAST-MODIFIED:20250103T142800Z
UID:1210-1737885600-1737995400@vaidikworld.in
SUMMARY:January 26 : New Moon
DESCRIPTION:Astronomical Details\n\nPhase: The New Moon is the first phase of the lunar cycle when the Moon is located between the Earth and the Sun.\nVisibility: During this phase\, the Moon is not visible from Earth\, as its illuminated side faces away from us.\nTiming: The exact time of the New Moon on January 26\, 2025\, will depend on your time zone. For precise timing\, check with local astronomical sources or software.\n\nSpiritual and Astrological Significance\n\nNew Beginnings: The New Moon symbolizes fresh starts\, making it an excellent time to set intentions or embark on new projects.\nReflection: This phase is often associated with introspection and planning.\nZodiac Influence: In astrology\, the zodiac sign where the New Moon occurs plays a significant role. On January 26\, 2025\, the New Moon will be in the zodiac sign of Aquarius (check exact degree for confirmation). This brings themes of innovation\, individuality\, and collective progress.\n\nRituals and Practices\n\nManifestation: Write down goals or aspirations to align with the energy of renewal.\nMeditation: Engage in quiet reflection or visualization practices.\nCleansing: Use the New Moon’s energy to release the old and welcome the new.
URL:https://vaidikworld.in/event/new-moon/
CATEGORIES:Astrology
ATTACH;FMTTYPE=image/jpeg:https://vaidikworld.in/wp-content/uploads/2020/04/6671451_3376550-scaled.jpg
END:VEVENT
BEGIN:VEVENT
DTSTART;TZID=UTC:20250113T080000
DTEND;TZID=UTC:20250114T170000
DTSTAMP:20260419T204740
CREATED:20250103T131155Z
LAST-MODIFIED:20250103T132130Z
UID:20213-1736755200-1736874000@vaidikworld.in
SUMMARY:January 13 : Wolf Moon
DESCRIPTION:Astronomical Details\n\nPhase: Full Moon — when the Moon is fully illuminated as seen from Earth because it is on the opposite side of Earth from the Sun.\nVisibility: The Moon will appear large and bright in the night sky\, making it an excellent opportunity for moon-gazing.\nTiming: The exact moment of the Full Moon varies depending on your location and time zone. Check local astronomical calendars for precise timing.\n\n\nWhy is it Called the Wolf Moon?\nThe name “Wolf Moon” is derived from the traditional belief that wolves howl more frequently during winter months. This behavior was historically associated with their increased activity during long\, cold nights in search of food. \n\nSpiritual and Symbolic Significance\n\nThemes:\n\nInner Strength and Resilience: Like the wolf enduring harsh winters\, this moon symbolizes survival and endurance.\nConnection with Community: Wolves are social animals\, and this moon invites reflection on family\, community\, and loyalty.\nInstinct and Intuition: The Wolf Moon encourages tapping into inner wisdom and primal instincts.\n\n\nAstrological Influence:\n\nThe Full Moon on January 13\, 2025\, falls in the zodiac sign of Cancer\, a sign associated with emotions\, family\, home\, and nurturing energy.\nIt may bring heightened emotional sensitivity\, a desire to connect deeply with loved ones\, or a focus on creating a secure and comfortable environment.\n\n\n\n\nRituals and Practices\n\nRelease Ceremony: Let go of emotional burdens or old habits that no longer serve you.\nMoon Bathing: Spend time under the moonlight for energetic cleansing.\nJournaling: Reflect on your feelings\, relationships\, and goals.\nMeditation or Visualization: Focus on themes of protection\, nurturing\, and inner strength.
URL:https://vaidikworld.in/event/january-13-wolf-moon/
CATEGORIES:Astrology
ATTACH;FMTTYPE=image/jpeg:https://vaidikworld.in/wp-content/uploads/2025/01/waxing-gibbous-moon-scaled.jpg
END:VEVENT
END:VCALENDAR